Workbook
Name Prefix: [1]Reference!$A$14:$A$20
Name ProjectRole: [1]Reference!$A$7:$A$11
Name Suffix: [1]Reference!$A$23:$A$27

Sheet FORGE Budget
A1: Project Name: | Q1: Budget Considerations
A2: Sponsor: | C2: Internal Funding / FORGE | Q2: Budgets should be appropriate to project scope and directly support seed grant objectives
A3: Tier Type: | Q3: Priority should be given to expenses that generate data, establish methodologies, or build team capacity
A4: Tier Project Duration: | C4: {=_xlfn.SWITCH(C3, "Tier 1: Single-Investigator Seed Grant", "Up to 12 months", "Tier 2: Collaborative Research Seed Grant", "Up to 18 months", "Tier 3: Academic-Health Affairs Bridge Grant", "Up to 24 months","")} | Q4: Graduate student support is highly encouraged and viewed favorably in review
A5: Principal Investigator: | Q5: Equipment requests >$5,000 require consultation with Division of Research prior to submission
A6: Co-Principal Investigator(s):
A7: Name of Organization: | C7: The University of Texas Rio Grande Valley | U7: Type | W7: Year 1 | X7: Year 2 | Y7: Total
A8: Project Period: | B8: begins | U8: Salaries | W8: =SUMIFS($N$13:$N$24, $E$13:$E$24, $U8, $F$13:$F$24, $W$7) -> 0 | X8: =SUMIFS($N$13:$N$24, $E$13:$E$24, $U8, $F$13:$F$24, $X$7) -> 0 | Y8: =ROUND(SUM(W8:X8),0) -> 0
B9: ends | U9: Direct Wages | W9: =SUMIFS($N$13:$N$24, $E$13:$E$24, $U9, $F$13:$F$24, $W$7) -> 0 | X9: =SUMIFS($N$13:$N$24, $E$13:$E$24, $U9, $F$13:$F$24, $X$7) -> 0 | Y9: =ROUND(SUM(W9:X9),0) -> 0
U10: Fringe Benefits | W10: =SUMIFS($O$13:$O$24, $F$13:$F$24, $W$7) -> 0 | X10: =SUMIFS($O$13:$O$24, $F$13:$F$24, $X$7) -> 0 | Y10: =ROUND(SUM(W10:X10),0) -> 0
A11: PROJECT PERSONNEL | K11: 12 mo. - Use Cal Month 9 mo. - Use Sum Month | U11: Subtotal: | W11: =ROUND(SUM(W8:W10),0) -> 0 | X11: =ROUND(SUM(X8:X10),0) -> 0 | Y11: =ROUND(SUM(Y8:Y10),0) -> 0
A12: Pre- fix | B12: * First Name | C12: * Last Name | D12: * Project Role | E12: * Compensation Type | F12: *Budget Year | G12: Employee Classification (select from dropdown) | H12: Fringe % | I12: Base Salary ($) | J12: * Appointment Type | K12: Cal. Months | L12: Sum. Months | N12: Requested Salary | O12: Fringe Benefits | P12: Funds Requested
G13: Select One | H13: =IF(G13="","",IFERROR(VLOOKUP(G13,Information!A2:B6,2,FALSE),"")) -> 0 | N13: =ROUND(IF(NOT((ISBLANK(#REF!))),IF((OR(AND(ISBLANK(K13),ISBLANK(L13)),(K13+L13)=0)),0,IF((AND((K13>0),((L13)>0))),"error",IF((K13>0),(I13*(K13/12)),(I13*((L13)/9))))),"empty "),0) -> 0 | O13: =IF(N13="",0,IF(H13="",0,N13*H13)) -> 0 | P13: =N13+O13 -> 0
G14: Select One | H14: =IF(G14="","",IFERROR(VLOOKUP(G14,Information!A2:B6,2,FALSE),"")) -> 0 | N14: =ROUND(IF(NOT((ISBLANK(#REF!))),IF((OR(AND(ISBLANK(K14),ISBLANK(L14)),(K14+L14)=0)),0,IF((AND((K14>0),((L14)>0))),"error",IF((K14>0),(I14*(K14/12)),(I14*((L14)/9))))),"empty "),0) -> 0 | O14: =IF(N14="",0,IF(H14="",0,N14*H14)) -> 0 | P14: =N14+O14 -> 0
G15: Select One | H15: =IF(G15="","",IFERROR(VLOOKUP(G15,Information!A2:B6,2,FALSE),"")) -> 0 | N15: =ROUND(IF(NOT((ISBLANK(#REF!))),IF((OR(AND(ISBLANK(K15),ISBLANK(L15)),(K15+L15)=0)),0,IF((AND((K15>0),((L15)>0))),"error",IF((K15>0),(I15*(K15/12)),(I15*((L15)/9))))),"empty "),0) -> 0 | O15: =IF(N15="",0,IF(H15="",0,N15*H15)) -> 0 | P15: =N15+O15 -> 0
G16: Select One | H16: =IF(G16="","",IFERROR(VLOOKUP(G16,Information!A2:B6,2,FALSE),"")) -> 0 | N16: =ROUND(IF(NOT((ISBLANK(#REF!))),IF((OR(AND(ISBLANK(K16),ISBLANK(L16)),(K16+L16)=0)),0,IF((AND((K16>0),((L16)>0))),"error",IF((K16>0),(I16*(K16/12)),(I16*((L16)/9))))),"empty "),0) -> 0 | O16: =IF(N16="",0,IF(H16="",0,N16*H16)) -> 0 | P16: =N16+O16 -> 0
G17: Select One | H17: =IF(G17="","",IFERROR(VLOOKUP(G17,Information!A2:B6,2,FALSE),"")) -> 0 | N17: =ROUND(IF(NOT((ISBLANK(#REF!))),IF((OR(AND(ISBLANK(K17),ISBLANK(L17)),(K17+L17)=0)),0,IF((AND((K17>0),((L17)>0))),"error",IF((K17>0),(I17*(K17/12)),(I17*((L17)/9))))),"empty "),0) -> 0 | O17: =IF(N17="",0,IF(H17="",0,N17*H17)) -> 0 | P17: =N17+O17 -> 0
G18: Select One | H18: =IF(G18="","",IFERROR(VLOOKUP(G18,Information!A2:B6,2,FALSE),"")) -> 0 | N18: =ROUND(IF(NOT((ISBLANK(#REF!))),IF((OR(AND(ISBLANK(K18),ISBLANK(L18)),(K18+L18)=0)),0,IF((AND((K18>0),((L18)>0))),"error",IF((K18>0),(I18*(K18/12)),(I18*((L18)/9))))),"empty "),0) -> 0 | O18: =IF(N18="",0,IF(H18="",0,N18*H18)) -> 0 | P18: =N18+O18 -> 0
G19: Select One | H19: =IF(G19="","",IFERROR(VLOOKUP(G19,Information!A2:B6,2,FALSE),"")) -> 0 | N19: =ROUND(IF(NOT((ISBLANK(#REF!))),IF((OR(AND(ISBLANK(K19),ISBLANK(L19)),(K19+L19)=0)),0,IF((AND((K19>0),((L19)>0))),"error",IF((K19>0),(I19*(K19/12)),(I19*((L19)/9))))),"empty "),0) -> 0 | O19: =IF(N19="",0,IF(H19="",0,N19*H19)) -> 0 | P19: =N19+O19 -> 0
G20: Select One | H20: =IF(G20="","",IFERROR(VLOOKUP(G20,Information!A2:B6,2,FALSE),"")) -> 0 | N20: =ROUND(IF(NOT((ISBLANK(#REF!))),IF((OR(AND(ISBLANK(K20),ISBLANK(L20)),(K20+L20)=0)),0,IF((AND((K20>0),((L20)>0))),"error",IF((K20>0),(I20*(K20/12)),(I20*((L20)/9))))),"empty "),0) -> 0 | O20: =IF(N20="",0,IF(H20="",0,N20*H20)) -> 0 | P20: =N20+O20 -> 0
G21: Select One | H21: =IF(G21="","",IFERROR(VLOOKUP(G21,Information!A2:B6,2,FALSE),"")) -> 0 | N21: =ROUND(IF(NOT((ISBLANK(#REF!))),IF((OR(AND(ISBLANK(K21),ISBLANK(L21)),(K21+L21)=0)),0,IF((AND((K21>0),((L21)>0))),"error",IF((K21>0),(I21*(K21/12)),(I21*((L21)/9))))),"empty "),0) -> 0 | O21: =IF(N21="",0,IF(H21="",0,N21*H21)) -> 0 | P21: =N21+O21 -> 0
G22: Select One | H22: =IF(G22="","",IFERROR(VLOOKUP(G22,Information!A2:B6,2,FALSE),"")) -> 0 | N22: =ROUND(IF(NOT((ISBLANK(#REF!))),IF((OR(AND(ISBLANK(K22),ISBLANK(L22)),(K22+L22)=0)),0,IF((AND((K22>0),((L22)>0))),"error",IF((K22>0),(I22*(K22/12)),(I22*((L22)/9))))),"empty "),0) -> 0 | O22: =IF(N22="",0,IF(H22="",0,N22*H22)) -> 0 | P22: =N22+O22 -> 0
G23: Select One | H23: =IF(G23="","",IFERROR(VLOOKUP(G23,Information!A2:B6,2,FALSE),"")) -> 0 | N23: =ROUND(IF(NOT((ISBLANK(#REF!))),IF((OR(AND(ISBLANK(K23),ISBLANK(L23)),(K23+L23)=0)),0,IF((AND((K23>0),((L23)>0))),"error",IF((K23>0),(I23*(K23/12)),(I23*((L23)/9))))),"empty "),0) -> 0 | O23: =IF(N23="",0,IF(H23="",0,N23*H23)) -> 0 | P23: =N23+O23 -> 0
G24: Select One | H24: =IF(G24="","",IFERROR(VLOOKUP(G24,Information!A2:B6,2,FALSE),"")) -> 0 | N24: =ROUND(IF(NOT((ISBLANK(#REF!))),IF((OR(AND(ISBLANK(K24),ISBLANK(L24)),(K24+L24)=0)),0,IF((AND((K24>0),((L24)>0))),"error",IF((K24>0),(I24*(K24/12)),(I24*((L24)/9))))),"empty "),0) -> 0 | O24: =IF(N24="",0,IF(H24="",0,N24*H24)) -> 0 | P24: =N24+O24 -> 0
N26: Year 1 | O26: Year 2 | P26: Total
G27: Total Project Personnel | N27: =SUMIFS($N$13:$N$24, $E$13:$E$24, "Salaries", $F$13:$F$24, "Year 1") + SUMIFS($N$13:$N$24, $E$13:$E$24, "Direct Wages", $F$13:$F$24, "Year 1") + SUMIFS($O$13:$O$24, $F$13:$F$24, "Year 1") -> 0 | O27: =SUMIFS($N$13:$N$24, $E$13:$E$24, "Salaries", $F$13:$F$24, "Year 2") + SUMIFS($N$13:$N$24, $E$13:$E$24, "Direct Wages", $F$13:$F$24, "Year 2") + SUMIFS($O$13:$O$24, $F$13:$F$24, "Year 2") -> 0 | P27: =SUM(P13:P24) -> 0
A29: EQUIPMENT | L29: Year 1 | N29: Year 2 | P29: Total
A30: Only specialized equipment directly essential to the project. Consult with Division of Research before submission.
A31: 1. | L31: 0 | N31: 0 | P31: =SUMPRODUCT(ROUND(L31+N31,0)) -> 0
A32: 2. | L32: 0 | N32: 0 | P32: =SUMPRODUCT(ROUND(L32+N32,0)) -> 0
A33: 3. | L33: 0 | N33: 0 | P33: =SUMPRODUCT(ROUND(L33+N33,0)) -> 0
A34: 4. | L34: 0 | N34: 0 | P34: =SUMPRODUCT(ROUND(L34+N34,0)) -> 0
G36: Total Equipment | L36: =ROUND(SUM(L31:L34),0) -> 0 | N36: =ROUND(SUM(N31:N34),0) -> 0 | P36: {=SUMPRODUCT(ROUND(P31:P34,0))} -> 0
A39: OTHER DIRECT COSTS | L39: Year 1 | N39: Year 2 | P39: Total
A40: Each budget line item listed below must include a clear, specific explanation in the budget justification.
A41: 1. | B41: [Select One of the Allowable Costs] | L41: 0 | N41: 0 | P41: =SUMPRODUCT(ROUND(L41+N41,0)) -> 0
A42: 2. | B42: [Select One of the Allowable Costs] | L42: 0 | N42: 0 | P42: =SUMPRODUCT(ROUND(L42+N42,0)) -> 0
A43: 3. | B43: [Select One of the Allowable Costs] | L43: 0 | N43: 0 | P43: =SUMPRODUCT(ROUND(L43+N43,0)) -> 0
A44: 4. | B44: [Select One of the Allowable Costs] | L44: 0 | N44: 0 | P44: =SUMPRODUCT(ROUND(L44+N44,0)) -> 0
A45: 5. | B45: [Select One of the Allowable Costs] | L45: 0 | N45: 0 | P45: =SUMPRODUCT(ROUND(L45+N45,0)) -> 0
...

Sheet Allowable vs Unallowable Costs
A1: Allowable vs. Unallowable Expenses Table (ALL TIERS)
A2: Category | B2: Description | C2: Type
A3: Faculty Summer Salary | B3: Maximum 2 months per PI/Co‑PI, based on Institutional Base Salary. | C3: Allowable
A4: Graduate Research Assistant Support | B4: Salary and tuition support for graduate research assistants. | C4: Allowable
A5: Postdoctoral Support | B5: Salary and benefits for postdoctoral scholars. | C5: Allowable
A6: Reearch Technician/Specialist | B6: Salary if justified by project needs. | C6: Allowable
A7: Laboratory Supplies | B7: Consumable supplies and materials required for research. | C7: Allowable
A8: Software Licenses | B8: Only licenses essential to the project. | C8: Allowable
A9: Participant Compensation | B9: Incentives, recruitment costs, and participant payments. | C9: Allowable
A10: Data Services | B10: Data acquisition, processing, or analysis services. | C10: Allowable
A11: Publication Costs | B11: Page charges and open‑access fees. | C11: Allowable
A12: Specialized Equipment | B12: Equipment directly essential to the project; requires consultation with Division of Research. | C12: Allowable
A13: Subawards or Service Contracts | B13: External collaborator support or specialized services not available at UTRGV; requires Division of Research pre‑approval. | C13: Allowable
... A23: Indirect Costs | B23: F&A/IDC is not included in internal awards. | C23: Unallowable

Sheet Cost of Attendance
A1: Graduate Cost of Attendance for Full-Time Enrollment (2026-2027) (Based on enrollment of 10 hours per semester) | B1: Resident Living with Family | C1: Resident Living On Campus | D1: Resident Living Off Campus | E1: Non-Resident Living with Family | F1: Non-Resident Living On Campus | G1: Non-Resident Living Off Campus
A2: Tuition & Fees | B2: 10265 | C2: 10265 | D2: 10265 | E2: 18825 | F2: 18825 | G2: 18825
A3: Housing & Food | B3: 2834 | C3: 10508 | D3: 10671 | E3: 2834 | F3: 10508 | G3: 10671
A4: Books, Course Materials, Supplies & Equipment | B4: 1280 | C4: 1280 | D4: 1280 | E4: 1280 | F4: 1280 | G4: 1280
A5: Transportation | B5: 3220 | C5: 1608 | D5: 3220 | E5: 3220 | F5: 1608 | G5: 3220
A6: Miscellaneous | B6: 3450 | C6: 3450 | D6: 3450 | E6: 3450 | F6: 3450 | G6: 3450
A7: Total Cost of Attendance | B7: =SUM(B2:B6) -> 21049 | C7: =SUM(C2:C6) -> 27111 | D7: =SUM(D2:D6) -> 28886 | E7: =SUM(E2:E6) -> 29609 | F7: =SUM(F2:F6) -> 35671 | G7: =SUM(G2:G6) -> 37446
A9: For more information on the Cost of Attendance for the UTRGV School of Medicine, click here.
A10: For Cost of Attendance information for the UTRGV School of Podiatric Medicine, click here.

Sheet Information
A1: Fringe Benefits | D1: Prefix | F1: Other Direct Costs
A2: Faculty | B2: 0.26 | D2: Dr. | F2: [Select One of the Allowable Costs]
A3: Staff (Full-Time) | B3: 0.386 | D3: Mr. | F3: Laboratory supplies and materials
A4: Staff (Part-Time) | B4: 0.121 | D4: Ms. | F4: Software licenses essential to the project
A5: Student | B5: 0.009 | D5: Miss. | F5: Subject/participant compensation and recruitment costs
A6: Select One | B6: 0 | D6: Mrs. | F6: Data acquisition, processing, or analysis services
F7: Publication costs (page charges, open access fees)
F8: Subaward to external collaborator or service contract for specific expertise or resources not available at UTRGV (requires Division of Research pre-approval)
F9: Tuition Support for GRA(s)
